BEGIN:VCALENDAR
VERSION:2.0
PRODID:icalendar-ruby
CALSCALE:GREGORIAN
METHOD:PUBLISH
BEGIN:VEVENT
DTSTAMP:20260421T155256Z
UID:67-370351@mapleave.org
DTSTART:20260424T231500Z
DTEND:20260425T013000Z
CLASS:PUBLIC
CREATED:20260417T125927
DESCRIPTION:Maple Avenue Ministries is excited to highlight this year's Asi
 an Heritage Month Lecture at Hope College\, held in partnership with the H
 ope College Theatre Department.\nThe event features a production of "You f
 or Me for You" by Mia Chung. This surreal and moving play follows two Nort
 h Korean sisters as they attempt to cross the border\, exploring themes of
  sacrifice\, culture\, and the bonds of family.\nEvent Details:\n\n\nWhen:
  Friday\, April 24\, 2026\n\n\nTime: 7:30 p.m. (Doors open at 7:15 p.m.)\n
 \n\nLocation: DeWitt Mainstage Theatre\, Hope College\n\n\nCost: Free admi
 ssion (Public invited)\n\n\nSpecial Q&amp\;A Session Stick around after th
 e performance! The audience will have the unique opportunity to participat
 e in a Q&amp\;A discussion with the play’s author\, Mia Chung.\nTicket I
 nformation While admission is free\, tickets should be reserved in advance
  to ensure seating. You can reserve yours online through the Hope College 
 Events and Conferences page.
LAST-MODIFIED:20260417T125927
LOCATION:DeWitt Mainstage Theatre\, Hope College
SUMMARY:Asian Heritage Month Lecture
URL;VALUE=URI:https://www.mapleave.org/events/asian-heritage-month-lecture/
 2026-04-24
ATTACH;FILENAME=AHLScreens.jpg;FMTTYPE=image/jpeg:https://dq5pwpg1q8ru0.clo
 udfront.net/2026/04/17/16/59/27/270061a8-928d-48cd-b1d7-1a16caa637e2/AHLSc
 reens.jpg
END:VEVENT
END:VCALENDAR
