BEGIN:VCALENDAR
VERSION:2.0
PRODID:icalendar-ruby
CALSCALE:GREGORIAN
METHOD:PUBLISH
BEGIN:VEVENT
DTSTAMP:20260421T224147Z
UID:64-370638@mapleave.org
DTSTART:20260829T130000Z
DTEND:20260829T160000Z
CLASS:PUBLIC
CREATED:20260417T133732
DESCRIPTION:We're always stitching up something to support our community. I
 f you sew or don't\, you will have fun creating\, collaborating and chatti
 ng!
LAST-MODIFIED:20260417T133732
LOCATION:MAM Gold Room
SUMMARY:Common Threads Sewing
URL;VALUE=URI:https://www.mapleave.org/events/common-threads-sewing/2026-08
 -29
END:VEVENT
END:VCALENDAR
