BEGIN:VCALENDAR
VERSION:2.0
PRODID:icalendar-ruby
CALSCALE:GREGORIAN
METHOD:PUBLISH
BEGIN:VEVENT
DTSTAMP:20260421T155516Z
UID:65-355318@mapleave.org
DTSTART;VALUE=DATE:20260507
DTEND;VALUE=DATE:20260509
CLASS:PUBLIC
CREATED:20260408T134819
DESCRIPTION:Maple Avenue Ministries is excited to support the upcoming Prea
 ch Sista! Fresh Anointing Conference\, held from May 7–9\, 2026\, in Nor
 ton Shores\, MI. This landmark 25th-anniversary event is hosted by Michell
 e Loyd-Paige and promises to be a weekend of profound spiritual renewal.\n
 MAM in the House: We are thrilled to announce that our community will be a
  core part of the conference experience:\n\n\nThursday Night: Members of t
 he MAM Praise Team will be leading the group in worship.\n\n\nFriday: Our 
 very own Jaymi will be featured as a conference speaker.\n\n\nRegistration
  Details: Registration is officially open! We encourage everyone to sign u
 p early\, as pricing increases after April 18.\n\n\nTheme: "But God..."\n\
 n\nLocation: Norton Shores\, MI\n\n\nHow to Register: Click the link below
  for schedule details and to secure your spot.\n\n
LAST-MODIFIED:20260408T134819
LOCATION:Maranatha Bible & Conference\, 4759 Lake Harbor Road\, Norton Shor
 es\, Michigan 49441
SUMMARY:Preach Sista! Fresh Anointing Conference
URL;VALUE=URI:https://www.mapleave.org/events/preach-sista-fresh-anointing-
 conference/2026-05-07
ATTACH;FILENAME=Conference-promo.png;FMTTYPE=image/png:https://dq5pwpg1q8ru
 0.cloudfront.net/2026/04/08/17/45/48/f3a1b2c2-3e95-4707-885d-3a9b80e8ae7d/
 Conference-promo.png
END:VEVENT
END:VCALENDAR
