BEGIN:VCALENDAR
VERSION:2.0
PRODID:icalendar-ruby
CALSCALE:GREGORIAN
METHOD:PUBLISH
BEGIN:VEVENT
DTSTAMP:20260421T154700Z
UID:66-370069@mapleave.org
DTSTART:20260430T223000Z
DTEND:20260430T233000Z
CLASS:PUBLIC
CREATED:20260417T101858
DESCRIPTION:Come out to Escape’s “The Hero in Me” event to cheer on
  Juan\, Ano\, and MAM's own Zech Blue as they share their stories of heroi
 sm and receive scholarship awards! Invite everyone you know - these kids d
 eserve a packed house!
LAST-MODIFIED:20260417T101858
LOCATION:Maranatha Church\, 918 Central Ave.\, Holland
SUMMARY:The Hero in Me
URL;VALUE=URI:https://www.mapleave.org/events/the-hero-in-me/2026-04-30
ATTACH;FILENAME=The-Hero-In-Me-2026.PNG;FMTTYPE=image/png:https://dq5pwpg1q
 8ru0.cloudfront.net/2026/04/17/14/18/57/4e571652-1788-4cd2-8f86-b1929115c5
 c6/The-Hero-In-Me-2026.PNG
END:VEVENT
END:VCALENDAR
